BEGIN:VCALENDAR
VERSION:2.0
PRODID:-//Raleigh Public Relations Society - ECPv6.15.14//NONSGML v1.0//EN
CALSCALE:GREGORIAN
METHOD:PUBLISH
X-WR-CALNAME:Raleigh Public Relations Society
X-ORIGINAL-URL:https://rprs.org
X-WR-CALDESC:Events for Raleigh Public Relations Society
REFRESH-INTERVAL;VALUE=DURATION:PT1H
X-Robots-Tag:noindex
X-PUBLISHED-TTL:PT1H
BEGIN:VTIMEZONE
TZID:America/New_York
BEGIN:DAYLIGHT
TZOFFSETFROM:-0500
TZOFFSETTO:-0400
TZNAME:EDT
DTSTART:20220313T070000
END:DAYLIGHT
BEGIN:STANDARD
TZOFFSETFROM:-0400
TZOFFSETTO:-0500
TZNAME:EST
DTSTART:20221106T060000
END:STANDARD
BEGIN:DAYLIGHT
TZOFFSETFROM:-0500
TZOFFSETTO:-0400
TZNAME:EDT
DTSTART:20230312T070000
END:DAYLIGHT
BEGIN:STANDARD
TZOFFSETFROM:-0400
TZOFFSETTO:-0500
TZNAME:EST
DTSTART:20231105T060000
END:STANDARD
BEGIN:DAYLIGHT
TZOFFSETFROM:-0500
TZOFFSETTO:-0400
TZNAME:EDT
DTSTART:20240310T070000
END:DAYLIGHT
BEGIN:STANDARD
TZOFFSETFROM:-0400
TZOFFSETTO:-0500
TZNAME:EST
DTSTART:20241103T060000
END:STANDARD
END:VTIMEZONE
BEGIN:VEVENT
DTSTART;TZID=America/New_York:20230111T180000
DTEND;TZID=America/New_York:20230111T193000
DTSTAMP:20260421T040910
CREATED:20220811T200631Z
LAST-MODIFIED:20221222T165620Z
UID:11040-1673460000-1673465400@rprs.org
SUMMARY:New Year Cocktail
DESCRIPTION:Please join us for our first event of 2023 at Killjoy to enjoy an after-work cocktail or mocktail with industry friends! Your first beverage (beer\, wine\, cocktail\, or mocktail) is on us and light bites will be provided. Now’s a great time to reconnect with professional contacts you’ve lost touch with or make some new ones\, thanks to our classic icebreakers that make it easy to chat it up after you’ve logged off for the day. We look forward to seeing you there!
URL:https://rprs.org/event/new-year-cocktail/
LOCATION:Killjoy\, 116 N. West Street\, Raleigh\, NC\, 27603\, United States
CATEGORIES:After Hours,Networking
ATTACH;FMTTYPE=image/jpeg:https://rprs.org/wp-content/uploads/2022/08/RPRS-Networking-at-Killjoy.jpg
END:VEVENT
END:VCALENDAR